BEGIN:VCALENDAR
VERSION:2.0
PRODID:-//CCSAE - ECPv5.10.0//NONSGML v1.0//EN
CALSCALE:GREGORIAN
METHOD:PUBLISH
X-WR-CALNAME:CCSAE
X-ORIGINAL-URL:https://crawfordadulted.org
X-WR-CALDESC:Events for CCSAE
BEGIN:VTIMEZONE
TZID:America/New_York
BEGIN:DAYLIGHT
TZOFFSETFROM:-0500
TZOFFSETTO:-0400
TZNAME:EDT
DTSTART:20260308T070000
END:DAYLIGHT
BEGIN:STANDARD
TZOFFSETFROM:-0400
TZOFFSETTO:-0500
TZNAME:EST
DTSTART:20261101T060000
END:STANDARD
END:VTIMEZONE
BEGIN:VEVENT
DTSTART;TZID=America/New_York:20260513T100000
DTEND;TZID=America/New_York:20260513T120000
DTSTAMP:20260423T062159
CREATED:20260409T153939Z
LAST-MODIFIED:20260409T155557Z
UID:69518-1778666400-1778673600@crawfordadulted.org
SUMMARY:Money Management Part 2 Morning
DESCRIPTION:Marquette Bank will be at our school to cover the following topics: online banking\, identity safety\, fraud\, budgeting and credit.
URL:https://crawfordadulted.org/event/money-management-part-2/
LOCATION:Crawford County School for Adult Education\, 272 Chestnut Street\, Meadville\, PA\, 16335\, United States
ORGANIZER;CN="Crawford%20County%20School%20for%20Adult%20Education":MAILTO:ccadulted5@gmail.com
END:VEVENT
BEGIN:VEVENT
DTSTART;TZID=America/New_York:20260513T173000
DTEND;TZID=America/New_York:20260513T193000
DTSTAMP:20260423T062159
CREATED:20260409T154135Z
LAST-MODIFIED:20260409T155521Z
UID:69520-1778693400-1778700600@crawfordadulted.org
SUMMARY:Money Management Part 2 Evening
DESCRIPTION:Gary Glunt will cover the following topics: online banking\, identity safety\, fraud\, budgeting and credit.
URL:https://crawfordadulted.org/event/money-management-part-2-2/
LOCATION:Crawford County School for Adult Education\, 272 Chestnut Street\, Meadville\, PA\, 16335\, United States
ORGANIZER;CN="Crawford%20County%20School%20for%20Adult%20Education":MAILTO:ccadulted5@gmail.com
END:VEVENT
BEGIN:VEVENT
DTSTART;VALUE=DATE:20261003
DTEND;VALUE=DATE:20261004
DTSTAMP:20260423T062159
CREATED:20260419T150824Z
LAST-MODIFIED:20260419T152742Z
UID:69539-1790985600-1791071999@crawfordadulted.org
SUMMARY:SAVE THE DATE: GOLF OUTING
DESCRIPTION: 
URL:https://crawfordadulted.org/event/save-the-date-golf-outing/
LOCATION:Whispering Pines GOlf Course\, 15630 Middle Road\, Meadville\, PA\, 16335\, United States
ORGANIZER;CN="Crawford%20County%20School%20for%20Adult%20Education":MAILTO:ccadulted5@gmail.com
END:VEVENT
END:VCALENDAR