BEGIN:VCALENDAR
VERSION:2.0
PRODID:-//CCSAE - ECPv5.10.0//NONSGML v1.0//EN
CALSCALE:GREGORIAN
METHOD:PUBLISH
X-WR-CALNAME:CCSAE
X-ORIGINAL-URL:https://crawfordadulted.org
X-WR-CALDESC:Events for CCSAE
BEGIN:VTIMEZONE
TZID:America/New_York
BEGIN:DAYLIGHT
TZOFFSETFROM:-0500
TZOFFSETTO:-0400
TZNAME:EDT
DTSTART:20210314T070000
END:DAYLIGHT
BEGIN:STANDARD
TZOFFSETFROM:-0400
TZOFFSETTO:-0500
TZNAME:EST
DTSTART:20211107T060000
END:STANDARD
END:VTIMEZONE
BEGIN:VEVENT
DTSTART;TZID=America/New_York:20211228T080000
DTEND;TZID=America/New_York:20211228T170000
DTSTAMP:20260420T095851
CREATED:20220120T210457Z
LAST-MODIFIED:20220128T173506Z
UID:2147-1640678400-1640710800@crawfordadulted.org
SUMMARY:Students participated in a ServSafe certification class and exam
DESCRIPTION:
URL:https://crawfordadulted.org/event/students-participated-in-a-servsafe-certification-class-and-exam/
LOCATION:Crawford County School for Adult Education\, 272 Chestnut Street\, Meadville\, PA\, 16335\, United States
ATTACH;FMTTYPE=image/jpeg:https://crawfordadulted.org/wp-content/uploads/2022/01/news-20220120-resized_2_1.jpg
END:VEVENT
END:VCALENDAR